{"text_format":"1","workbook":"xlsx","n_sheets":7,"sheets":["Res. presup. ej. hasta la fecha","Gastos mensuales","1000-Oficina","2000-Almacén","3000-Personal","4000-Equipos","5000-Otros"],"not_rendered":{"charts":0,"images":1,"macros":0,"external_links":0,"defined_names":7,"comments":0,"pivot_tables":0},"unopened":[],"bounds":{"document_bytes":16777216,"sheet_cells":100000,"rows_first":2000,"rows_last":500,"rows_between":2000,"halvings":0,"cell_chars":16384,"cell_head_chars":4096},"cells_cut":0,"cells_raw":0,"read":"whole","date_system":"1900"}

{"sheet":"Res. presup. ej. hasta la fecha","index":0,"n_rows":10,"n_cols":6,"rows_kept":10,"cut":false,"hidden":false,"merged":[[1,0,1,5]]}
[]
["Resultados reales y Presupuesto del ejercicio 2006 hasta la fecha"]
[]
["Nº de cuenta","Cuenta","Resultados reales del ejercicio hasta la fecha","Presupuesto del ejercicio hasta la fecha","Presupuesto restante $","Presupuesto restante %"]
[1000,"Oficina",{"$f":"'Gastos mensuales'!O5","v":0},50000,{"$f":"SUM(D5-C5)","v":50000},{"$f":"SUM(Tabla1[Presupuesto restante $]/Tabla1[Presupuesto del ejercicio hasta la fecha])","v":1}]
[2000,"Almacén",{"$f":"'Gastos mensuales'!O6","v":0},75000,{"$f":"SUM(D6-C6)","v":75000},{"$f":"SUM(Tabla1[Presupuesto restante $]/Tabla1[Presupuesto del ejercicio hasta la fecha])","v":1}]
[3000,"Personal",{"$f":"'Gastos mensuales'!O7","v":0},100000,{"$f":"SUM(D7-C7)","v":100000},{"$f":"SUM(Tabla1[Presupuesto restante $]/Tabla1[Presupuesto del ejercicio hasta la fecha])","v":1}]
[4000,"Equipos",{"$f":"'Gastos mensuales'!O8","v":0},25000,{"$f":"SUM(D8-C8)","v":25000},{"$f":"SUM(Tabla1[Presupuesto restante $]/Tabla1[Presupuesto del ejercicio hasta la fecha])","v":1}]
[5000,"Otros",{"$f":"'Gastos mensuales'!O9","v":0},50000,{"$f":"SUM(D9-C9)","v":50000},{"$f":"SUM(Tabla1[Presupuesto restante $]/Tabla1[Presupuesto del ejercicio hasta la fecha])","v":1}]
["Total",null,{"$f":"SUBTOTAL(109,Tabla1[Resultados reales del ejercicio hasta la fecha])","v":0},{"$f":"SUBTOTAL(109,Tabla1[Presupuesto del ejercicio hasta la fecha])","v":300000},{"$f":"SUBTOTAL(109,Tabla1[Presupuesto restante $])","v":300000},{"$f":"Tabla1[[#Totals],[Presupuesto restante $]]/Tabla1[[#Totals],[Presupuesto del ejercicio hasta la fecha]]","v":1}]

{"sheet":"Gastos mensuales","index":1,"n_rows":10,"n_cols":15,"rows_kept":10,"cut":false,"hidden":false,"merged":[[1,0,1,14]]}
[]
["Gastos mensuales de 2006"]
[]
["Nº de cuenta","Cuenta","Ene-06","Feb-06","Mar-06","Abr-06","May-06","Jun-06","Jul-06","Ago-06","Sep-06","Oct-06","Nov-06","Dic-06","Total de 2006"]
[1000,"Oficina",{"$f":"SUMIF('1000-Oficina'!$J:$J,\"=\"&(TEXT(C$4,\"mmm-yy\")),'1000-Oficina'!$E:$E)","v":0},{"$f":"SUMIF('1000-Oficina'!$J:$J,\"=\"&(TEXT(D$4,\"mmm-yy\")),'1000-Oficina'!$E:$E)","v":0},{"$f":"SUMIF('1000-Oficina'!$J:$J,\"=\"&(TEXT(E$4,\"mmm-yy\")),'1000-Oficina'!$E:$E)","v":0},{"$f":"SUMIF('1000-Oficina'!$J:$J,\"=\"&(TEXT(F$4,\"mmm-yy\")),'1000-Oficina'!$E:$E)","v":0},{"$f":"SUMIF('1000-Oficina'!$J:$J,\"=\"&(TEXT(G$4,\"mmm-yy\")),'1000-Oficina'!$E:$E)","v":0},{"$f":"SUMIF('1000-Oficina'!$J:$J,\"=\"&(TEXT(H$4,\"mmm-yy\")),'1000-Oficina'!$E:$E)","v":0},{"$f":"SUMIF('1000-Oficina'!$J:$J,\"=\"&(TEXT(I$4,\"mmm-yy\")),'1000-Oficina'!$E:$E)","v":0},{"$f":"SUMIF('1000-Oficina'!$J:$J,\"=\"&(TEXT(J$4,\"mmm-yy\")),'1000-Oficina'!$E:$E)","v":0},{"$f":"SUMIF('1000-Oficina'!$J:$J,\"=\"&(TEXT(K$4,\"mmm-yy\")),'1000-Oficina'!$E:$E)","v":0},{"$f":"SUMIF('1000-Oficina'!$J:$J,\"=\"&(TEXT(L$4,\"mmm-yy\")),'1000-Oficina'!$E:$E)","v":0},{"$f":"SUMIF('1000-Oficina'!$J:$J,\"=\"&(TEXT(M$4,\"mmm-yy\")),'1000-Oficina'!$E:$E)","v":0},{"$f":"SUMIF('1000-Oficina'!$J:$J,\"=\"&(TEXT(N$4,\"mmm-yy\")),'1000-Oficina'!$E:$E)","v":0},{"$f":"SUM(Tabla2[Ene-06]+Tabla2[Feb-06]+Tabla2[Mar-06]+Tabla2[Abr-06]+Tabla2[May-06]+Tabla2[Jun-06]+Tabla2[Jul-06]+Tabla2[Ago-06]+Tabla2[Sep-06]+Tabla2[Oct-06]+Tabla2[Nov-06]+Tabla2[Dic-06])","v":0}]
[2000,"Almacén",{"$f":"SUMIF('2000-Almacén'!$J:$J,\"=\"&(TEXT(C$4,\"mmm-yy\")),'2000-Almacén'!$E:$E)","v":0},{"$f":"SUMIF('2000-Almacén'!$J:$J,\"=\"&(TEXT(D$4,\"mmm-yy\")),'2000-Almacén'!$E:$E)","v":0},{"$f":"SUMIF('2000-Almacén'!$J:$J,\"=\"&(TEXT(E$4,\"mmm-yy\")),'2000-Almacén'!$E:$E)","v":0},{"$f":"SUMIF('2000-Almacén'!$J:$J,\"=\"&(TEXT(F$4,\"mmm-yy\")),'2000-Almacén'!$E:$E)","v":0},{"$f":"SUMIF('2000-Almacén'!$J:$J,\"=\"&(TEXT(G$4,\"mmm-yy\")),'2000-Almacén'!$E:$E)","v":0},{"$f":"SUMIF('2000-Almacén'!$J:$J,\"=\"&(TEXT(H$4,\"mmm-yy\")),'2000-Almacén'!$E:$E)","v":0},{"$f":"SUMIF('2000-Almacén'!$J:$J,\"=\"&(TEXT(I$4,\"mmm-yy\")),'2000-Almacén'!$E:$E)","v":0},{"$f":"SUMIF('2000-Almacén'!$J:$J,\"=\"&(TEXT(J$4,\"mmm-yy\")),'2000-Almacén'!$E:$E)","v":0},{"$f":"SUMIF('2000-Almacén'!$J:$J,\"=\"&(TEXT(K$4,\"mmm-yy\")),'2000-Almacén'!$E:$E)","v":0},{"$f":"SUMIF('2000-Almacén'!$J:$J,\"=\"&(TEXT(L$4,\"mmm-yy\")),'2000-Almacén'!$E:$E)","v":0},{"$f":"SUMIF('2000-Almacén'!$J:$J,\"=\"&(TEXT(M$4,\"mmm-yy\")),'2000-Almacén'!$E:$E)","v":0},{"$f":"SUMIF('2000-Almacén'!$J:$J,\"=\"&(TEXT(N$4,\"mmm-yy\")),'2000-Almacén'!$E:$E)","v":0},{"$f":"SUM(Tabla2[Ene-06]+Tabla2[Feb-06]+Tabla2[Mar-06]+Tabla2[Abr-06]+Tabla2[May-06]+Tabla2[Jun-06]+Tabla2[Jul-06]+Tabla2[Ago-06]+Tabla2[Sep-06]+Tabla2[Oct-06]+Tabla2[Nov-06]+Tabla2[Dic-06])","v":0}]
[3000,"Personal",{"$f":"SUMIF('3000-Personal'!$J:$J,\"=\"&(TEXT(C$4,\"mmm-yy\")),'3000-Personal'!$E:$E)","v":0},{"$f":"SUMIF('3000-Personal'!$J:$J,\"=\"&(TEXT(D$4,\"mmm-yy\")),'3000-Personal'!$E:$E)","v":0},{"$f":"SUMIF('3000-Personal'!$J:$J,\"=\"&(TEXT(E$4,\"mmm-yy\")),'3000-Personal'!$E:$E)","v":0},{"$f":"SUMIF('3000-Personal'!$J:$J,\"=\"&(TEXT(F$4,\"mmm-yy\")),'3000-Personal'!$E:$E)","v":0},{"$f":"SUMIF('3000-Personal'!$J:$J,\"=\"&(TEXT(G$4,\"mmm-yy\")),'3000-Personal'!$E:$E)","v":0},{"$f":"SUMIF('3000-Personal'!$J:$J,\"=\"&(TEXT(H$4,\"mmm-yy\")),'3000-Personal'!$E:$E)","v":0},{"$f":"SUMIF('3000-Personal'!$J:$J,\"=\"&(TEXT(I$4,\"mmm-yy\")),'3000-Personal'!$E:$E)","v":0},{"$f":"SUMIF('3000-Personal'!$J:$J,\"=\"&(TEXT(J$4,\"mmm-yy\")),'3000-Personal'!$E:$E)","v":0},{"$f":"SUMIF('3000-Personal'!$J:$J,\"=\"&(TEXT(K$4,\"mmm-yy\")),'3000-Personal'!$E:$E)","v":0},{"$f":"SUMIF('3000-Personal'!$J:$J,\"=\"&(TEXT(L$4,\"mmm-yy\")),'3000-Personal'!$E:$E)","v":0},{"$f":"SUMIF('3000-Personal'!$J:$J,\"=\"&(TEXT(M$4,\"mmm-yy\")),'3000-Personal'!$E:$E)","v":0},{"$f":"SUMIF('3000-Personal'!$J:$J,\"=\"&(TEXT(N$4,\"mmm-yy\")),'3000-Personal'!$E:$E)","v":0},{"$f":"SUM(Tabla2[Ene-06]+Tabla2[Feb-06]+Tabla2[Mar-06]+Tabla2[Abr-06]+Tabla2[May-06]+Tabla2[Jun-06]+Tabla2[Jul-06]+Tabla2[Ago-06]+Tabla2[Sep-06]+Tabla2[Oct-06]+Tabla2[Nov-06]+Tabla2[Dic-06])","v":0}]
[4000,"Equipos",{"$f":"SUMIF('4000-Equipos'!$J:$J,\"=\"&(TEXT(C$4,\"mmm-yy\")),'4000-Equipos'!$E:$E)","v":0},{"$f":"SUMIF('4000-Equipos'!$J:$J,\"=\"&(TEXT(D$4,\"mmm-yy\")),'4000-Equipos'!$E:$E)","v":0},{"$f":"SUMIF('4000-Equipos'!$J:$J,\"=\"&(TEXT(E$4,\"mmm-yy\")),'4000-Equipos'!$E:$E)","v":0},{"$f":"SUMIF('4000-Equipos'!$J:$J,\"=\"&(TEXT(F$4,\"mmm-yy\")),'4000-Equipos'!$E:$E)","v":0},{"$f":"SUMIF('4000-Equipos'!$J:$J,\"=\"&(TEXT(G$4,\"mmm-yy\")),'4000-Equipos'!$E:$E)","v":0},{"$f":"SUMIF('4000-Equipos'!$J:$J,\"=\"&(TEXT(H$4,\"mmm-yy\")),'4000-Equipos'!$E:$E)","v":0},{"$f":"SUMIF('4000-Equipos'!$J:$J,\"=\"&(TEXT(I$4,\"mmm-yy\")),'4000-Equipos'!$E:$E)","v":0},{"$f":"SUMIF('4000-Equipos'!$J:$J,\"=\"&(TEXT(J$4,\"mmm-yy\")),'4000-Equipos'!$E:$E)","v":0},{"$f":"SUMIF('4000-Equipos'!$J:$J,\"=\"&(TEXT(K$4,\"mmm-yy\")),'4000-Equipos'!$E:$E)","v":0},{"$f":"SUMIF('4000-Equipos'!$J:$J,\"=\"&(TEXT(L$4,\"mmm-yy\")),'4000-Equipos'!$E:$E)","v":0},{"$f":"SUMIF('4000-Equipos'!$J:$J,\"=\"&(TEXT(M$4,\"mmm-yy\")),'4000-Equipos'!$E:$E)","v":0},{"$f":"SUMIF('4000-Equipos'!$J:$J,\"=\"&(TEXT(N$4,\"mmm-yy\")),'4000-Equipos'!$E:$E)","v":0},{"$f":"SUM(Tabla2[Ene-06]+Tabla2[Feb-06]+Tabla2[Mar-06]+Tabla2[Abr-06]+Tabla2[May-06]+Tabla2[Jun-06]+Tabla2[Jul-06]+Tabla2[Ago-06]+Tabla2[Sep-06]+Tabla2[Oct-06]+Tabla2[Nov-06]+Tabla2[Dic-06])","v":0}]
[5000,"Otros",{"$f":"SUMIF('5000-Otros'!$J:$J,\"=\"&(TEXT(C$4,\"mmm-yy\")),'5000-Otros'!$E:$E)","v":0},{"$f":"SUMIF('5000-Otros'!$J:$J,\"=\"&(TEXT(D$4,\"mmm-yy\")),'5000-Otros'!$E:$E)","v":0},{"$f":"SUMIF('5000-Otros'!$J:$J,\"=\"&(TEXT(E$4,\"mmm-yy\")),'5000-Otros'!$E:$E)","v":0},{"$f":"SUMIF('5000-Otros'!$J:$J,\"=\"&(TEXT(F$4,\"mmm-yy\")),'5000-Otros'!$E:$E)","v":0},{"$f":"SUMIF('5000-Otros'!$J:$J,\"=\"&(TEXT(G$4,\"mmm-yy\")),'5000-Otros'!$E:$E)","v":0},{"$f":"SUMIF('5000-Otros'!$J:$J,\"=\"&(TEXT(H$4,\"mmm-yy\")),'5000-Otros'!$E:$E)","v":0},{"$f":"SUMIF('5000-Otros'!$J:$J,\"=\"&(TEXT(I$4,\"mmm-yy\")),'5000-Otros'!$E:$E)","v":0},{"$f":"SUMIF('5000-Otros'!$J:$J,\"=\"&(TEXT(J$4,\"mmm-yy\")),'5000-Otros'!$E:$E)","v":0},{"$f":"SUMIF('5000-Otros'!$J:$J,\"=\"&(TEXT(K$4,\"mmm-yy\")),'5000-Otros'!$E:$E)","v":0},{"$f":"SUMIF('5000-Otros'!$J:$J,\"=\"&(TEXT(L$4,\"mmm-yy\")),'5000-Otros'!$E:$E)","v":0},{"$f":"SUMIF('5000-Otros'!$J:$J,\"=\"&(TEXT(M$4,\"mmm-yy\")),'5000-Otros'!$E:$E)","v":0},{"$f":"SUMIF('5000-Otros'!$J:$J,\"=\"&(TEXT(N$4,\"mmm-yy\")),'5000-Otros'!$E:$E)","v":0},{"$f":"SUM(Tabla2[Ene-06]+Tabla2[Feb-06]+Tabla2[Mar-06]+Tabla2[Abr-06]+Tabla2[May-06]+Tabla2[Jun-06]+Tabla2[Jul-06]+Tabla2[Ago-06]+Tabla2[Sep-06]+Tabla2[Oct-06]+Tabla2[Nov-06]+Tabla2[Dic-06])","v":0}]
["Total",null,{"$f":"SUBTOTAL(109,Tabla2[Ene-06])","v":0},{"$f":"SUBTOTAL(109,Tabla2[Feb-06])","v":0},{"$f":"SUBTOTAL(109,Tabla2[Mar-06])","v":0},{"$f":"SUBTOTAL(109,Tabla2[Abr-06])","v":0},{"$f":"SUBTOTAL(109,Tabla2[May-06])","v":0},{"$f":"SUBTOTAL(109,Tabla2[Jun-06])","v":0},{"$f":"SUBTOTAL(109,Tabla2[Jul-06])","v":0},{"$f":"SUBTOTAL(109,Tabla2[Ago-06])","v":0},{"$f":"SUBTOTAL(109,Tabla2[Sep-06])","v":0},{"$f":"SUBTOTAL(109,Tabla2[Oct-06])","v":0},{"$f":"SUBTOTAL(109,Tabla2[Nov-06])","v":0},{"$f":"SUBTOTAL(109,Tabla2[Dic-06])","v":0},{"$f":"SUBTOTAL(109,Tabla2[Total de 2006])","v":0}]

{"sheet":"1000-Oficina","index":2,"n_rows":6,"n_cols":10,"rows_kept":6,"cut":false,"hidden":false,"merged":[]}
["Ganancias y pérdidas - Gasto","Fecha de facturación","Nº de factura","Solicitud realizada por","Importe del cheque","Nombre de beneficiario","Uso de cheque","Método de distribución","Fecha de archivo","Campo de clave creado"]
[1000,38732,1,"David Daniels",100,"Consolidated Messenger ","CD en blanco","Créditos",38737,{"$f":"TEXT(B2,\"mmm-yy\")","v":"Jan-06"}]
[1000,"2006-02-07",5,"David Daniels",50,"Consolidated Messenger ","Tinta de impresora","Créditos",38758,{"$f":"TEXT(B3,\"mmm-yy\")","v":"Feb-06"}]
[1000,"2006-02-15",10,"David Daniels",275,"Acme","Oficina general","Créditos",38758,{"$f":"TEXT(B4,\"mmm-yy\")","v":"Feb-06"}]
[1000,null,null,null,null,null,null,null,null,{"$f":"TEXT(B5,\"mmm-yy\")","v":"Jan-00"}]
["Total",null,null,null,{"$f":"SUBTOTAL(109,Tabla3[Importe del cheque])","v":425}]

{"sheet":"2000-Almacén","index":3,"n_rows":5,"n_cols":10,"rows_kept":5,"cut":false,"hidden":false,"merged":[]}
["Ganancias y pérdidas - Gasto","Fecha de facturación","Nº de factura","Solicitud realizada por","Importe del cheque","Nombre de beneficiario","Uso de cheque","Método de distribución","Fecha de archivo","Campo de clave creado"]
[2000,38734,2,"Marc Faeber",550,"Fabrikam, Inc. ","Cambiar ventana de almacén","Créditos",38737,{"$f":"TEXT(B2,\"mmm-yy\")","v":"Jan-06"}]
[2000,"2006-01-19",3,"Marc Faeber",355.27,"A. Datum Corporation ","Nueva caja registradora","Créditos",38737,{"$f":"TEXT(B3,\"mmm-yy\")","v":"Jan-06"}]
[2000,null,null,null,null,null,null,null,null,{"$f":"TEXT(B4,\"mmm-yy\")","v":"Jan-00"}]
["Total",null,null,null,{"$f":"SUBTOTAL(109,Tabla4[Importe del cheque])","v":905.27}]

{"sheet":"3000-Personal","index":4,"n_rows":5,"n_cols":10,"rows_kept":5,"cut":false,"hidden":false,"merged":[]}
["Ganancias y pérdidas - Gasto","Fecha de facturación","Nº de factura","Solicitud realizada por","Importe del cheque","Nombre de beneficiario","Uso de cheque","Método de distribución","Fecha de archivo","Campo de clave creado"]
[3000,38758,6,"Robert O'Hara",2500,"Graphic Design Institute ","diseñador de contrato","Cheques",38768,{"$f":"TEXT(B2,\"mmm-yy\")","v":"Feb-06"}]
[3000,"2006-02-15",11,"Sandeep Kaliyath",15000,"Adventure Works","autor de contrato","Cheques",38768,{"$f":"TEXT(B3,\"mmm-yy\")","v":"Feb-06"}]
[3000,null,null,null,null,null,null,null,null,{"$f":"TEXT(B4,\"mmm-yy\")","v":"Jan-00"}]
["Total",null,null,null,{"$f":"SUBTOTAL(109,Tabla5[Importe del cheque])","v":17500}]

{"sheet":"4000-Equipos","index":5,"n_rows":4,"n_cols":10,"rows_kept":4,"cut":false,"hidden":false,"merged":[]}
["Ganancias y pérdidas - Gasto","Fecha de facturación","Nº de factura","Solicitud realizada por","Importe del cheque","Nombre de beneficiario","Uso de cheque","Método de distribución","Fecha de archivo","Campo de clave creado"]
[4000,38742,5,"Robert Walters",1854,"Trey Research ","Nuevo portátil","Créditos",38742,{"$f":"TEXT(B2,\"mmm-yy\")","v":"Jan-06"}]
[4000,null,null,null,null,null,null,null,null,{"$f":"TEXT(B3,\"mmm-yy\")","v":"Jan-00"}]
["Total",null,null,null,{"$f":"SUBTOTAL(109,Tabla6[Importe del cheque])","v":1854}]

{"sheet":"5000-Otros","index":6,"n_rows":4,"n_cols":10,"rows_kept":4,"cut":false,"hidden":false,"merged":[]}
["Ganancias y pérdidas - Gasto","Fecha de facturación","Nº de factura","Solicitud realizada por","Importe del cheque","Nombre de beneficiario","Uso de cheque","Método de distribución","Fecha de archivo","Campo de clave creado"]
[5000,38740,4,"Bob Gage",35.6,"Bob Gage","Gastos de taxi","Cheques",38740,{"$f":"TEXT(B2,\"mmm-yy\")","v":"Jan-06"}]
[5000,null,null,null,null,null,null,null,null,{"$f":"TEXT(B3,\"mmm-yy\")","v":"Jan-00"}]
["Total",null,null,null,{"$f":"SUBTOTAL(109,Tabla7[Importe del cheque])","v":35.6}]